BEGIN:VCALENDAR
VERSION:2.0
PRODID:-//AMKTMC - ECPv6.15.20//NONSGML v1.0//EN
CALSCALE:GREGORIAN
METHOD:PUBLISH
X-WR-CALNAME:AMKTMC
X-ORIGINAL-URL:https://amktmc.org/wp
X-WR-CALDESC:Events for AMKTMC
REFRESH-INTERVAL;VALUE=DURATION:PT1H
X-Robots-Tag:noindex
X-PUBLISHED-TTL:PT1H
BEGIN:VTIMEZONE
TZID:Asia/Shanghai
BEGIN:STANDARD
TZOFFSETFROM:+0800
TZOFFSETTO:+0800
TZNAME:CST
DTSTART:20190101T000000
END:STANDARD
END:VTIMEZONE
BEGIN:VEVENT
DTSTART;TZID=Asia/Shanghai:20200306T200000
DTEND;TZID=Asia/Shanghai:20200306T210000
DTSTAMP:20260423T161154
CREATED:20200303T024848Z
LAST-MODIFIED:20200303T024848Z
UID:1115-1583524800-1583528400@amktmc.org
SUMMARY:Lenten Friday Service
DESCRIPTION:Friday Reflection during Lent Season
URL:https://amktmc.org/wp/event/lenten-friday-service/
END:VEVENT
END:VCALENDAR