BEGIN:VCALENDAR
VERSION:2.0
PRODID:-//AMKTMC - ECPv6.15.20//NONSGML v1.0//EN
CALSCALE:GREGORIAN
METHOD:PUBLISH
X-WR-CALNAME:AMKTMC
X-ORIGINAL-URL:https://amktmc.org/wp
X-WR-CALDESC:Events for AMKTMC
REFRESH-INTERVAL;VALUE=DURATION:PT1H
X-Robots-Tag:noindex
X-PUBLISHED-TTL:PT1H
BEGIN:VTIMEZONE
TZID:Asia/Shanghai
BEGIN:STANDARD
TZOFFSETFROM:+0800
TZOFFSETTO:+0800
TZNAME:CST
DTSTART:20190101T000000
END:STANDARD
END:VTIMEZONE
BEGIN:VEVENT
DTSTART;TZID=Asia/Shanghai:20200426T093000
DTEND;TZID=Asia/Shanghai:20200426T103000
DTSTAMP:20260421T154314
CREATED:20200303T031141Z
LAST-MODIFIED:20200405T045028Z
UID:1136-1587893400-1587897000@amktmc.org
SUMMARY:Methodist Welfare Services Sunday (Online)
DESCRIPTION:
URL:https://amktmc.org/wp/event/methodist-welfare-services-sunday/
LOCATION:Online\, 1 Ang Mo Kio Street 21\, Singapore\, 569383\, Singapore
END:VEVENT
BEGIN:VEVENT
DTSTART;TZID=Asia/Shanghai:20200419T093000
DTEND;TZID=Asia/Shanghai:20200419T103000
DTSTAMP:20260421T154314
CREATED:20200405T045111Z
LAST-MODIFIED:20200405T045111Z
UID:1254-1587288600-1587292200@amktmc.org
SUMMARY:Sunday Worship Service (Online)
DESCRIPTION:
URL:https://amktmc.org/wp/event/sunday-worship-service-online/
LOCATION:Online\, 1 Ang Mo Kio Street 21\, Singapore\, 569383\, Singapore
END:VEVENT
BEGIN:VEVENT
DTSTART;TZID=Asia/Shanghai:20200412T083000
DTEND;TZID=Asia/Shanghai:20200412T093000
DTSTAMP:20260421T154314
CREATED:20200303T031052Z
LAST-MODIFIED:20200405T044947Z
UID:1134-1586680200-1586683800@amktmc.org
SUMMARY:Easter Service (Online)
DESCRIPTION:
URL:https://amktmc.org/wp/event/easter-sunday/
LOCATION:Online\, 1 Ang Mo Kio Street 21\, Singapore\, 569383\, Singapore
END:VEVENT
BEGIN:VEVENT
DTSTART;TZID=Asia/Shanghai:20200410T093000
DTEND;TZID=Asia/Shanghai:20200410T103000
DTSTAMP:20260421T154314
CREATED:20200405T013004Z
LAST-MODIFIED:20200405T044955Z
UID:1126-1586511000-1586514600@amktmc.org
SUMMARY:Good Friday Service (Online)
DESCRIPTION:
URL:https://amktmc.org/wp/event/good-friday-service/
LOCATION:Online
END:VEVENT
BEGIN:VEVENT
DTSTART;TZID=Asia/Shanghai:20200409T200000
DTEND;TZID=Asia/Shanghai:20200409T210000
DTSTAMP:20260421T154314
CREATED:20200303T030004Z
LAST-MODIFIED:20200405T045000Z
UID:1130-1586462400-1586466000@amktmc.org
SUMMARY:Maundy Thursday Service (Online)
DESCRIPTION:Live Streaming
URL:https://amktmc.org/wp/event/maundy-thursday-service/
LOCATION:Online\, 1 Ang Mo Kio Street 21\, Singapore\, 569383\, Singapore
END:VEVENT
BEGIN:VEVENT
DTSTART;TZID=Asia/Shanghai:20200405T093000
DTEND;TZID=Asia/Shanghai:20200405T103000
DTSTAMP:20260421T154314
CREATED:20200303T030052Z
LAST-MODIFIED:20200405T031312Z
UID:1132-1586079000-1586082600@amktmc.org
SUMMARY:Palm Sunday
DESCRIPTION:
URL:https://amktmc.org/wp/event/palm-sunday/
END:VEVENT
BEGIN:VEVENT
DTSTART;TZID=Asia/Shanghai:20200403T200000
DTEND;TZID=Asia/Shanghai:20200403T210000
DTSTAMP:20260421T154314
CREATED:20200303T025613Z
LAST-MODIFIED:20200303T025613Z
UID:1124-1585944000-1585947600@amktmc.org
SUMMARY:Lenten Friday Service
DESCRIPTION:
URL:https://amktmc.org/wp/event/lenten-friday-service-5/
LOCATION:Online\, 1 Ang Mo Kio Street 21\, Singapore\, 569383\, Singapore
END:VEVENT
BEGIN:VEVENT
DTSTART;TZID=Asia/Shanghai:20200327T200000
DTEND;TZID=Asia/Shanghai:20200327T210000
DTSTAMP:20260421T154314
CREATED:20200303T025524Z
LAST-MODIFIED:20200327T004051Z
UID:1122-1585339200-1585342800@amktmc.org
SUMMARY:Lenten Friday Service
DESCRIPTION:AMKTMC Friday Lenten Service – Live Stream
URL:https://amktmc.org/wp/event/lenten-friday-service-4/
LOCATION:Online\, 1 Ang Mo Kio Street 21\, Singapore\, 569383\, Singapore
END:VEVENT
BEGIN:VEVENT
DTSTART;TZID=Asia/Shanghai:20200321T180000
DTEND;TZID=Asia/Shanghai:20200321T210000
DTSTAMP:20260421T154314
CREATED:20200303T025805Z
LAST-MODIFIED:20200303T025805Z
UID:1128-1584813600-1584824400@amktmc.org
SUMMARY:Young Adults Fellowship - Cottage Fellowship
DESCRIPTION:All adults ages 25-40 are welcome
URL:https://amktmc.org/wp/event/young-adults-fellowship-cottage-fellowship/
END:VEVENT
BEGIN:VEVENT
DTSTART;TZID=Asia/Shanghai:20200320T200000
DTEND;TZID=Asia/Shanghai:20200320T210000
DTSTAMP:20260421T154314
CREATED:20200303T025454Z
LAST-MODIFIED:20200303T025454Z
UID:1120-1584734400-1584738000@amktmc.org
SUMMARY:Lenten Friday Service
DESCRIPTION:
URL:https://amktmc.org/wp/event/lenten-friday-service-3/
LOCATION:Online\, 1 Ang Mo Kio Street 21\, Singapore\, 569383\, Singapore
END:VEVENT
BEGIN:VEVENT
DTSTART;TZID=Asia/Shanghai:20200313T200000
DTEND;TZID=Asia/Shanghai:20200313T210000
DTSTAMP:20260421T154314
CREATED:20200303T025418Z
LAST-MODIFIED:20200303T025418Z
UID:1118-1584129600-1584133200@amktmc.org
SUMMARY:Lenten Friday Service
DESCRIPTION:
URL:https://amktmc.org/wp/event/lenten-friday-service-2/
LOCATION:Online\, 1 Ang Mo Kio Street 21\, Singapore\, 569383\, Singapore
END:VEVENT
BEGIN:VEVENT
DTSTART;VALUE=DATE:20200308
DTEND;VALUE=DATE:20200309
DTSTAMP:20260421T154314
CREATED:20200303T023200Z
LAST-MODIFIED:20200303T030211Z
UID:1110-1583625600-1583711999@amktmc.org
SUMMARY:TTC Sunday
DESCRIPTION:Trinity Theological Sunday
URL:https://amktmc.org/wp/event/ttc-sunday/
LOCATION:Online\, 1 Ang Mo Kio Street 21\, Singapore\, 569383\, Singapore
END:VEVENT
BEGIN:VEVENT
DTSTART;TZID=Asia/Shanghai:20200306T200000
DTEND;TZID=Asia/Shanghai:20200306T210000
DTSTAMP:20260421T154314
CREATED:20200303T024848Z
LAST-MODIFIED:20200303T024848Z
UID:1115-1583524800-1583528400@amktmc.org
SUMMARY:Lenten Friday Service
DESCRIPTION:Friday Reflection during Lent Season
URL:https://amktmc.org/wp/event/lenten-friday-service/
END:VEVENT
END:VCALENDAR